BEGIN:VCALENDAR
VERSION:2.0
PRODID:-//Ingram Micro Egypt - ECPv6.15.20//NONSGML v1.0//EN
CALSCALE:GREGORIAN
METHOD:PUBLISH
X-ORIGINAL-URL:https://ingrammicroegypt.com
X-WR-CALDESC:Events for Ingram Micro Egypt
REFRESH-INTERVAL;VALUE=DURATION:PT1H
X-Robots-Tag:noindex
X-PUBLISHED-TTL:PT1H
BEGIN:VTIMEZONE
TZID:UTC
BEGIN:STANDARD
TZOFFSETFROM:+0000
TZOFFSETTO:+0000
TZNAME:UTC
DTSTART:20190101T000000
END:STANDARD
END:VTIMEZONE
BEGIN:VTIMEZONE
TZID:Europe/Helsinki
BEGIN:DAYLIGHT
TZOFFSETFROM:+0200
TZOFFSETTO:+0300
TZNAME:EEST
DTSTART:20190331T010000
END:DAYLIGHT
BEGIN:STANDARD
TZOFFSETFROM:+0300
TZOFFSETTO:+0200
TZNAME:EET
DTSTART:20191027T010000
END:STANDARD
BEGIN:DAYLIGHT
TZOFFSETFROM:+0200
TZOFFSETTO:+0300
TZNAME:EEST
DTSTART:20200329T010000
END:DAYLIGHT
BEGIN:STANDARD
TZOFFSETFROM:+0300
TZOFFSETTO:+0200
TZNAME:EET
DTSTART:20201025T010000
END:STANDARD
BEGIN:DAYLIGHT
TZOFFSETFROM:+0200
TZOFFSETTO:+0300
TZNAME:EEST
DTSTART:20210328T010000
END:DAYLIGHT
BEGIN:STANDARD
TZOFFSETFROM:+0300
TZOFFSETTO:+0200
TZNAME:EET
DTSTART:20211031T010000
END:STANDARD
END:VTIMEZONE
BEGIN:VTIMEZONE
TZID:Asia/Dubai
BEGIN:STANDARD
TZOFFSETFROM:+0400
TZOFFSETTO:+0400
TZNAME:+04
DTSTART:20190101T000000
END:STANDARD
END:VTIMEZONE
BEGIN:VEVENT
DTSTART;TZID=UTC:20210127T120000
DTEND;TZID=UTC:20210127T140000
DTSTAMP:20260424T191059
CREATED:20210113T120514Z
LAST-MODIFIED:20210121T102405Z
UID:1499-1611748800-1611756000@ingrammicroegypt.com
SUMMARY:Rancher International K8s Day - Free Training 27 January
DESCRIPTION:
URL:https://ingrammicroegypt.com/event/rancher-international-k8s-day-free-training-27-january/
LOCATION:Webinar\, Egypt
ATTACH;FMTTYPE=image/png:https://ingrammicroegypt.com/wp-content/uploads/2021/01/SuSe-Rancher-Event.png
ORGANIZER;CN="Ingram Micro":MAILTO:Support@egyptingrammicro.com
END:VEVENT
BEGIN:VEVENT
DTSTART;TZID=UTC:20210113T140000
DTEND;TZID=UTC:20210113T150000
DTSTAMP:20260424T191059
CREATED:20210107T090801Z
LAST-MODIFIED:20210107T121225Z
UID:1492-1610546400-1610550000@ingrammicroegypt.com
SUMMARY:CISSP Modular Training - Cryptographical
DESCRIPTION:
URL:https://ingrammicroegypt.com/event/cissp-modular-training-cryptographical/
LOCATION:Webinar\, Egypt
ATTACH;FMTTYPE=image/png:https://ingrammicroegypt.com/wp-content/uploads/2021/01/CISSP-Training-13-Jan-2021-01.png
ORGANIZER;CN="Ingram Micro":MAILTO:Support@egyptingrammicro.com
END:VEVENT
BEGIN:VEVENT
DTSTART;TZID=UTC:20210112T140000
DTEND;TZID=UTC:20210112T150000
DTSTAMP:20260424T191059
CREATED:20210107T090436Z
LAST-MODIFIED:20210107T090536Z
UID:1489-1610460000-1610463600@ingrammicroegypt.com
SUMMARY:Design Cutting Edge Solutions in Cyber Security
DESCRIPTION:
URL:https://ingrammicroegypt.com/event/design-cutting-edge-solutions-in-cyber-security/
LOCATION:Webinar\, Egypt
ATTACH;FMTTYPE=image/png:https://ingrammicroegypt.com/wp-content/uploads/2021/01/edge-Cutting-solution-webinar-03.png
ORGANIZER;CN="Ingram Micro":MAILTO:Support@egyptingrammicro.com
END:VEVENT
BEGIN:VEVENT
DTSTART;TZID=UTC:20201229T130000
DTEND;TZID=UTC:20201229T140000
DTSTAMP:20260424T191059
CREATED:20201220T080017Z
LAST-MODIFIED:20210107T080225Z
UID:1465-1609246800-1609250400@ingrammicroegypt.com
SUMMARY:Veeam Cloud partner Academy
DESCRIPTION:
URL:https://ingrammicroegypt.com/event/veeam-cloud-partner-academy/
LOCATION:Webinar\, Egypt
ATTACH;FMTTYPE=image/png:https://ingrammicroegypt.com/wp-content/uploads/2021/01/Veeam-Cloud-Webinar.png
ORGANIZER;CN="Ingram Micro":MAILTO:Support@egyptingrammicro.com
END:VEVENT
BEGIN:VEVENT
DTSTART;VALUE=DATE:20201228
DTEND;VALUE=DATE:20201229
DTSTAMP:20260424T191059
CREATED:20201217T090844Z
LAST-MODIFIED:20210107T091135Z
UID:1495-1609113600-1609199999@ingrammicroegypt.com
SUMMARY:Fortinet Cyber Threat Assessment Portal
DESCRIPTION:
URL:https://ingrammicroegypt.com/event/fortinet-cyber-threat-assessment-portal/
LOCATION:Webinar\, Egypt
ATTACH;FMTTYPE=image/png:https://ingrammicroegypt.com/wp-content/uploads/2021/01/Fortinet-01-e1611226549913.png
ORGANIZER;CN="Ingram Micro":MAILTO:Support@egyptingrammicro.com
END:VEVENT
BEGIN:VEVENT
DTSTART;TZID=UTC:20201217T110000
DTEND;TZID=UTC:20201217T123000
DTSTAMP:20260424T191059
CREATED:20201201T085951Z
LAST-MODIFIED:20210107T075936Z
UID:1452-1608202800-1608208200@ingrammicroegypt.com
SUMMARY:Aruba Partner Webinar
DESCRIPTION:
URL:https://ingrammicroegypt.com/event/aruba-partner-webinar/
LOCATION:Webinar\, Egypt
ATTACH;FMTTYPE=image/png:https://ingrammicroegypt.com/wp-content/uploads/2020/12/Aruba-Webinar-EGY.png
ORGANIZER;CN="Ingram Micro":MAILTO:Support@egyptingrammicro.com
END:VEVENT
BEGIN:VEVENT
DTSTART;TZID=UTC:20201130T140000
DTEND;TZID=UTC:20201130T150000
DTSTAMP:20260424T191059
CREATED:20201120T080314Z
LAST-MODIFIED:20210107T080536Z
UID:1468-1606744800-1606748400@ingrammicroegypt.com
SUMMARY:Veeam Cloud Session
DESCRIPTION:
URL:https://ingrammicroegypt.com/event/veeam-cloud-session/
LOCATION:Webinar\, Egypt
ATTACH;FMTTYPE=image/png:https://ingrammicroegypt.com/wp-content/uploads/2021/01/Veeam-Cloud-Session-Egypt-01.png
ORGANIZER;CN="Ingram Micro":MAILTO:Support@egyptingrammicro.com
END:VEVENT
BEGIN:VEVENT
DTSTART;TZID=Europe/Helsinki:20201104T100000
DTEND;TZID=Europe/Helsinki:20201104T113000
DTSTAMP:20260424T191059
CREATED:20201030T144224Z
LAST-MODIFIED:20210107T080719Z
UID:1254-1604484000-1604489400@ingrammicroegypt.com
SUMMARY:Ingram Micro Poly Solution update
DESCRIPTION:
URL:https://ingrammicroegypt.com/event/ingram-micro-poly-solution-update/
LOCATION:Webinar\, Egypt
ATTACH;FMTTYPE=image/png:https://ingrammicroegypt.com/wp-content/uploads/2020/11/Poly-Egypt.png
ORGANIZER;CN="Ingram Micro":MAILTO:Support@egyptingrammicro.com
END:VEVENT
BEGIN:VEVENT
DTSTART;TZID=Asia/Dubai:20200930T130000
DTEND;TZID=Asia/Dubai:20200930T140000
DTSTAMP:20260424T191059
CREATED:20200920T142345Z
LAST-MODIFIED:20210107T080919Z
UID:1248-1601470800-1601474400@ingrammicroegypt.com
SUMMARY:Micro Ingram Fortinet Security Fabric
DESCRIPTION:
URL:https://ingrammicroegypt.com/event/micro-ingram-fortinet-security-fabric/
LOCATION:Webinar\, Egypt
ATTACH;FMTTYPE=image/png:https://ingrammicroegypt.com/wp-content/uploads/2020/11/Ingram-Micro-Fortinet-Security-Fabric-30-Sept.png
ORGANIZER;CN="Ingram Micro":MAILTO:Support@egyptingrammicro.com
END:VEVENT
BEGIN:VEVENT
DTSTART;TZID=Europe/Helsinki:20200913T130000
DTEND;TZID=Europe/Helsinki:20200913T140000
DTSTAMP:20260424T191059
CREATED:20200903T144014Z
LAST-MODIFIED:20210107T081000Z
UID:1252-1600002000-1600005600@ingrammicroegypt.com
SUMMARY:Dell Servers Technology Update
DESCRIPTION:
URL:https://ingrammicroegypt.com/event/dell-servers-technology-update/
LOCATION:Egypt International Exhibition Center (EIEC)\, Fifth settlement\, Egypt\, Cairo\, 00000\, Egypt
ATTACH;FMTTYPE=image/png:https://ingrammicroegypt.com/wp-content/uploads/2020/11/Dell-Sevrers-Webinar-Sep-2020-.png
ORGANIZER;CN="Ingram Micro":MAILTO:Support@egyptingrammicro.com
END:VEVENT
END:VCALENDAR